BEGIN:VCALENDAR
VERSION:2.0
PRODID:-//wp-events-plugin.com//7.2.3.1//EN
TZID:Europe/Berlin
X-WR-TIMEZONE:Europe/Berlin
BEGIN:VEVENT
UID:121@feuerwehr-birenbach.de
DTSTART;TZID=Europe/Berlin:20250118T183000
DTEND;TZID=Europe/Berlin:20250118T220000
DTSTAMP:20241228T192852Z
URL:https://www.feuerwehr-birenbach.de/termine/hauptversammlung/
SUMMARY:Hauptversammlung
DESCRIPTION:\n 	\nDatum:  18.01.2025\n 	\nUhrzeit: 18.30 Uhr - Um 19 Uhr ge
 meinsames Abendessen - 20 Uhr Hauptversammlung\n 	\nOrt: Bürgersaal Biren
 bach\n
CATEGORIES:Einsatzabteilung
LOCATION:Bürgersaal\, Marktplatz 1\, Birenbach\, 73102\, Deutschland
X-APPLE-STRUCTURED-LOCATION;VALUE=URI;X-ADDRESS=Marktplatz 1\, Birenbach\, 
 73102\, Deutschland;X-APPLE-RADIUS=100;X-TITLE=Bürgersaal:geo:0,0
END:VEVENT
BEGIN:VTIMEZONE
TZID:Europe/Berlin
X-LIC-LOCATION:Europe/Berlin
BEGIN:STANDARD
DTSTART:20241027T020000
TZOFFSETFROM:+0200
TZOFFSETTO:+0100
TZNAME:CET
END:STANDARD
END:VTIMEZONE
END:VCALENDAR