BEGIN:VCALENDAR
VERSION:2.0
PRODID:-//wp-events-plugin.com//7.2.3.1//EN
TZID:Europe/Berlin
X-WR-TIMEZONE:Europe/Berlin
BEGIN:VEVENT
UID:125@feuerwehr-birenbach.de
DTSTART;TZID=Europe/Berlin;VALUE=DATE:20251206
DTEND;TZID=Europe/Berlin;VALUE=DATE:20251207
DTSTAMP:20241228T193101Z
URL:https://www.feuerwehr-birenbach.de/termine/jahresabschluss-der-einsatz
 abteilung-und-altersabteilung/
SUMMARY:Jahresabschluss der Einsatzabteilung und Altersabteilung
DESCRIPTION:
CATEGORIES:Altersabteilung,Einsatzabteilung
LOCATION:Feuerwehrmagazin\, Zellerstraße 15\, Birenbach\, Baden-Württembe
 rg\, 73102\, Deutschland
X-APPLE-STRUCTURED-LOCATION;VALUE=URI;X-ADDRESS=Zellerstraße 15\, Birenbac
 h\, Baden-Württemberg\, 73102\, Deutschland;X-APPLE-RADIUS=100;X-TITLE=Fe
 uerwehrmagazin:geo:0,0
END:VEVENT
BEGIN:VTIMEZONE
TZID:Europe/Berlin
X-LIC-LOCATION:Europe/Berlin
BEGIN:STANDARD
DTSTART:20251026T020000
TZOFFSETFROM:+0200
TZOFFSETTO:+0100
TZNAME:CET
END:STANDARD
END:VTIMEZONE
END:VCALENDAR