BEGIN:VCALENDAR
VERSION:2.0
PRODID:-//wp-events-plugin.com//7.2.3.1//EN
TZID:Europe/Berlin
X-WR-TIMEZONE:Europe/Berlin
BEGIN:VEVENT
UID:105@feuerwehr-birenbach.de
DTSTART;TZID=Europe/Berlin;VALUE=DATE:20250704
DTEND;TZID=Europe/Berlin;VALUE=DATE:20250707
DTSTAMP:20241228T184930Z
URL:https://www.feuerwehr-birenbach.de/termine/kreisfeuerwehrtag-in-waesch
 enbeueren/
SUMMARY:"Beira on Fire" + Kreisfeuerwehrtag
DESCRIPTION:Im Jahr 2025 steht das 150-jährige Jubiläum der Freiwilligen 
 Feuerwehr Wäschenbeuren an. Die Feuerwehr Wäschenbeuren veranstaltet dah
 er ein großes Festwochenende.\n\nWeitere Informationen finden Sie unter: 
 https://www.feuerwehr-waeschenbeuren.de/Kreisfeuerwehrtag-2025/\n\n\n\n&nb
 sp\;\n\n&nbsp\;
ATTACH;FMTTYPE=image/jpeg:https://www.feuerwehr-birenbach.de/wp-content/up
 loads/2024/12/bfea64e393ef7b9e67152c278e93158c_fit.png
CATEGORIES:Veranstaltung
END:VEVENT
BEGIN:VTIMEZONE
TZID:Europe/Berlin
X-LIC-LOCATION:Europe/Berlin
BEGIN:DAYLIGHT
DTSTART:20250330T030000
TZOFFSETFROM:+0100
TZOFFSETTO:+0200
TZNAME:CEST
END:DAYLIGHT
END:VTIMEZONE
END:VCALENDAR